BEGIN:VCALENDAR
VERSION:2.0
PRODID:-//wp-events-plugin.com//7.2.3.1//EN
TZID:Europe/Berlin
X-WR-TIMEZONE:Europe/Berlin
BEGIN:VEVENT
UID:790@galerie-pankow.de
DTSTART;TZID=Europe/Berlin:20220908T190000
DTEND;TZID=Europe/Berlin:20220908T203000
DTSTAMP:20220906T093148Z
URL:https://galerie-pankow.de/veranstaltungen/screening-expo-video-filmvor
 fuehrung/
SUMMARY:Screening: Expo-Video | Filmvorführung
DESCRIPTION:Seit 2014 produziert die Galerie Pankow Expo-Videos (dt.: Ausst
 ellungsvideos). Zuschauer:innen erhalten Einblicke in kuratorische und kü
 nstlerische Arbeitsprozesse sowie Informationen über Künstler:innen\, ih
 re Werke und deren Genese. Vergangene Ausstellungen oder Themen von Ausste
 llungen werden so langfristig zugänglich gemacht.\n\n\n\nDas Screening ze
 igt Expo-Videos aus dem Archiv der Galerie Pankow und lädt zur Premiere d
 es 15. Expo-Videos ein.\n\nIm Rahmen der KGB-Kunstwoche 2022\n\nhttps://ww
 w.youtube.com/watch?v=oqoAQVTHrhc\n\nDie Kommunalen Galerien Berlin präse
 ntieren zum neunten Mal die KGB-Kunstwoche. Vom 2. bis 11. September 2022 
 werden wieder zahlreiche Ausstellungen\, Performances\, Konzerte\, Artist 
 Talks und Workshops in ganz Berlin zu erleben sein.\n\n\n\n\n\n[event post
 _id="post_id="\n\n&lt\;?php $post_id = get_the_ID()\;\necho $post_id\;\n?&
 gt\;\n\n"]&lt\;b&gt\;#_EVENTDATES | #_EVENTTIMES&lt\;/b&gt\;&lt\;br&gt\;&l
 t\;br&gt\;Galerie Pankow &lt\;br&gt\;Breite Straße 8 &lt\;br&gt\;13187 Be
 rlin &lt\;br&gt\; 			\n				\n					\n						Lade Karte ...\n						\n							\
 n								\n								\n							\n							\n								\n								\n							\n						
 	\n								\n								\n							\n						\n					\n				\n			\n			\n				\n					
 Breite Straße 8 - Berlin\n\nVeranstaltungen anzeigen\n				\n			\n			\n			
 	52.57135\n				13.40979\n			\n			&lt\;br&gt\;Im Kalender eintragen\; #_EVE
 NTICALLINK &lt\;br&gt\;#_EVENTGCALLINK&lt\;br&gt\;&lt\;br&gt\;[/event]\n\n
 \n\n&nbsp\;
ATTACH;FMTTYPE=image/jpeg:https://galerie-pankow.de/wp-content/uploads/202
 2/09/GP_Video.jpg
CATEGORIES:Filmpräsentation,Veranstaltung
LOCATION:Galerie Pankow\, Breite Straße 8\, Berlin\, Berlin\, 13187\, Berl
 in Brandenburg\, Deutschland
GEO:52.57135;13.40979
X-APPLE-STRUCTURED-LOCATION;VALUE=URI;X-ADDRESS=Breite Straße 8\, Berlin\,
  Berlin\, 13187\, Berlin Brandenburg\, Deutschland;X-APPLE-RADIUS=100;X-TI
 TLE=Galerie Pankow:geo:52.57135,13.40979
END:VEVENT
BEGIN:VTIMEZONE
TZID:Europe/Berlin
X-LIC-LOCATION:Europe/Berlin
BEGIN:DAYLIGHT
DTSTART:20220327T030000
TZOFFSETFROM:+0100
TZOFFSETTO:+0200
TZNAME:CEST
END:DAYLIGHT
END:VTIMEZONE
END:VCALENDAR