BEGIN:VCALENDAR
VERSION:2.0
PRODID:-//wp-events-plugin.com//7.2.3.1//EN
TZID:Europe/Berlin
X-WR-TIMEZONE:Europe/Berlin
BEGIN:VEVENT
UID:770@galerie-pankow.de
DTSTART;TZID=Europe/Berlin:20220827T170000
DTEND;TZID=Europe/Berlin:20220827T200000
DTSTAMP:20220817T110048Z
URL:https://galerie-pankow.de/veranstaltungen/marianne-werefkin-preis-2022
 -finissage/
SUMMARY:Marianne-Werefkin-Preis 2022 | Finissage
DESCRIPTION:Marianne-Werefkin-Preis 2022 des Vereins der Berliner Künstler
 innen 1867\nFinissage der Ausstellung\n\n\n\nKerstin Grimm\, Such mich nic
 ht\, 2017\, Zeichnung/Collage\, 198 x 160 cm\, © Kerstin Grimm\n\n\nAusst
 ellung vom 29. Juni bis 28. August 2022\n\nFinissage am Dienstag\, 27. Aug
 ust 2022 um 17 Uhr\n\nDer Verein der Berliner Künstlerinnen 1867 engagier
 t sich seit mehr als 150 Jahren für die gleichberechtigte Teilhabe von K
 ünstlerinnen in der Kunstwelt. Die Auslobung eines Kunstpreises für Frau
 en ist die logische Weiterführung seiner Arbeit\, bei der die Unterstütz
 ung des professionellen Strebens von Künstlerinnen und die Sichtmachung i
 hres Wirkens im Vordergrund steht.\n\nAls der Marianne-Werefkin-Preis 1990
  vom Verein zum ersten Mal vergeben wurde\, gab es deutschlandweit keine A
 uszeichnung\, die ausschließlich Künstlerinnen ehrte – dazu gehörten 
 Weitsicht\, Mut und Gestaltungswille. Der Preis ist eine Anerkennung für 
 die fundamentale und bereichernde Arbeit\, die Künstlerinnen für unsere 
 Gesellschaft leisten. Namenspatronin ist die berühmte Avantgardistin und 
 Expressionistin Marianne von Werefkin (1860–1938).\n\nDie Ausstellung au
 sgewählter Werke der nominierten Künstlerinnen und die Preisverleihung w
 erden bereits zum zweiten Mal von der Galerie Pankow ausgerichtet. Damit w
 ird eine wichtige Initiative zur Förderung und Sichtbarmachung von profes
 sionellen Künstlerinnen in Berlin unterstützt.\n\nDie nominierten und au
 sstellenden Künstlerinnen in diesem Jahr sind Valérie Favre\, FRANEK\, S
 tella Geppert\, Kerstin Grimm\, Irène Hug\, Sarah Loibl\, Britta Lumer\, 
 Funda Özgünaydin und Angela Zohlen. Die Ausstellung bildet eine Bandbrei
 te künstlerischer Positionen und Ausdrucksmittel ab.\n\n\n\nin Kooperatio
 n mit dem Verein der Berliner Künstlerinnen 1867\n\nwww.vdbk1867.de\n\n\n
 \n[event post_id="post_id="\n\n&lt\;?php $post_id = get_the_ID()\;\necho $
 post_id\;\n?&gt\;\n\n"]&lt\;b&gt\;#_EVENTDATES | #_EVENTTIMES&lt\;/b&gt\;&
 lt\;br&gt\;&lt\;br&gt\;Galerie Pankow &lt\;br&gt\;Breite Straße 8 &lt\;br
 &gt\;13187 Berlin &lt\;br&gt\; 			\n				\n					\n						Lade Karte ...\n			
 			\n							\n								\n								\n							\n							\n								\n								\n		
 					\n							\n								\n								\n							\n						\n					\n				\n			\n			
 \n				\n					Breite Straße 8 - Berlin\n\nVeranstaltungen anzeigen\n				\n
 			\n			\n				52.57135\n				13.40979\n			\n			&lt\;br&gt\;Im Kalender eint
 ragen\; #_EVENTICALLINK &lt\;br&gt\;#_EVENTGCALLINK&lt\;br&gt\;&lt\;br&gt\
 ;[/event]\n\n\n\n&nbsp\;
ATTACH;FMTTYPE=image/jpeg:https://galerie-pankow.de/wp-content/uploads/202
 1/12/Brief-Logo.png
CATEGORIES:Finissage,Veranstaltung
LOCATION:Galerie Pankow\, Breite Straße 8\, Berlin\, Berlin\, 13187\, Berl
 in Brandenburg\, Deutschland
GEO:52.57135;13.40979
X-APPLE-STRUCTURED-LOCATION;VALUE=URI;X-ADDRESS=Breite Straße 8\, Berlin\,
  Berlin\, 13187\, Berlin Brandenburg\, Deutschland;X-APPLE-RADIUS=100;X-TI
 TLE=Galerie Pankow:geo:52.57135,13.40979
END:VEVENT
BEGIN:VTIMEZONE
TZID:Europe/Berlin
X-LIC-LOCATION:Europe/Berlin
BEGIN:DAYLIGHT
DTSTART:20220327T030000
TZOFFSETFROM:+0100
TZOFFSETTO:+0200
TZNAME:CEST
END:DAYLIGHT
END:VTIMEZONE
END:VCALENDAR